BEGIN:VCALENDAR
VERSION:2.0
CALSCALE:GREGORIAN
PRODID:adamgibbons/ics
METHOD:PUBLISH
X-PUBLISHED-TTL:PT1H
BEGIN:VEVENT
UID:56@tucsontimeline.info
SUMMARY:Live Longer Burn Everything Tour Kick Off
DTSTAMP:20260423T113444Z
DTSTART:20241102T010000Z
DTEND:20241102T050000Z
DESCRIPTION:November 1st at 6pm come to Live Longer Burn Everything’s tour 
	kick off\nfeaturing a stacked bill. Fortuna Malvada\, Overnight\, Without 
	Fault\, Is It Worth\nWriting a Letter\, and CYCDT. Wear a costume\, don’t 
	be a jerk\, respect the space.\n$10 but as always no one turned away
URL:https://tucsontimeline.info/event/live-longer-burn-everything-tour-kick
	-off
LOCATION:Blacklidge Community Collective (BCC) - 101 E. Ventura St\, Tucson
	\, AZ
STATUS:CONFIRMED
CATEGORIES:music
X-ALT-DESC;FMTTYPE=text/html:<p>November 1st at 6pm come to Live Longer Bur
	n Everything’s tour kick off featuring a stacked bill. Fortuna Malvada, Ov
	ernight, Without Fault, Is It Worth Writing a Letter, and CYCDT. Wear a co
	stume, don’t be a jerk, respect the space. $10 but as always no one turned
	 away</p>
END:VEVENT
BEGIN:VEVENT
UID:55@tucsontimeline.info
SUMMARY:LASSO on tour from Brazil PUNK SHOW
DTSTAMP:20260423T113444Z
DTSTART:20241023T010000Z
DTEND:20241023T050000Z
DESCRIPTION:Punk returns to the BCC Tuesday 10/22 with LASSO on tour from B
	razil\, w/ support\nfrom OVERNIGHT (Tucson powerviolence) and DESTRUIDO (T
	ucson HC punk)\n\nDoors @ 5:30 // Show @ 6\n\n$10 NOTAFLOF\n\npunkpunkpunk
	punkpunk
URL:https://tucsontimeline.info/event/lasso-on-tour-from-brazil-punk-show
LOCATION:Blacklidge Community Collective (BCC) - 101 E. Ventura St\, Tucson
	\, AZ
STATUS:CONFIRMED
CATEGORIES:music
X-ALT-DESC;FMTTYPE=text/html:<p>Punk returns to the BCC Tuesday 10/22 with 
	LASSO on tour from Brazil, w/ support from OVERNIGHT (Tucson powerviolence
	) and DESTRUIDO (Tucson HC punk)</p><p>Doors @ 5:30 // Show @ 6</p><p>$10 
	NOTAFLOF</p><p>punkpunkpunkpunkpunk</p>
END:VEVENT
BEGIN:VEVENT
UID:54@tucsontimeline.info
SUMMARY:Facepulp // Dogyard SHOW
DTSTAMP:20260423T113444Z
DTSTART:20241020T030000Z
DTEND:20241020T060000Z
DESCRIPTION:come see Facepulp (Flagstaff)\, Dogyard (Maricopa)\, and locals
	 Tormenta and\nInterra at the BCC. Saturday October 19th @ 8pm. It'll be f
	un!
URL:https://tucsontimeline.info/event/facepulp-dogyard-show
LOCATION:Blacklidge Community Collective (BCC) - 101 E. Ventura St\, Tucson
	\, AZ
STATUS:CONFIRMED
CATEGORIES:music
X-ALT-DESC;FMTTYPE=text/html:<p>come see Facepulp (Flagstaff), Dogyard (Mar
	icopa), and locals Tormenta and Interra at the BCC. Saturday October 19th 
	@ 8pm. It'll be fun! </p>
END:VEVENT
BEGIN:VEVENT
UID:52@tucsontimeline.info
SUMMARY:bloodlines - a reading & ritual with meital yaniv
DTSTAMP:20260423T113444Z
DTSTART:20241006T230000Z
DTEND:20241007T033000Z
DESCRIPTION:Bloodlines: An evening of reading and ritual with JVP Tucson at
	 the BCC\nfeaturing a Muna Food menu with Palestinian cuisine showcasing l
	ocal vegan\nmushroom chorizo from Chinese Chorizo Project!
URL:https://tucsontimeline.info/event/bloodlines-a-reading-and-ritual-with-
	meital-yaniv
LOCATION:Blacklidge Community Collective (BCC) - 101 E. Ventura St\, Tucson
	\, AZ
STATUS:CONFIRMED
CATEGORIES:activism,good causes
X-ALT-DESC;FMTTYPE=text/html:<p>Bloodlines: An evening of reading and ritua
	l with JVP Tucson at the BCC featuring a Muna Food menu with Palestinian c
	uisine showcasing local vegan mushroom chorizo from Chinese Chorizo Projec
	t! </p>
END:VEVENT
END:VCALENDAR
